BEGIN:VCALENDAR
VERSION:2.0
PRODID:-//Spanish Grater Plate - ECPv6.15.20//NONSGML v1.0//EN
CALSCALE:GREGORIAN
METHOD:PUBLISH
X-ORIGINAL-URL:https://thelittlespanishgraterplate.com.au
X-WR-CALDESC:Events for Spanish Grater Plate
REFRESH-INTERVAL;VALUE=DURATION:PT1H
X-Robots-Tag:noindex
X-PUBLISHED-TTL:PT1H
BEGIN:VTIMEZONE
TZID:Australia/Melbourne
BEGIN:STANDARD
TZOFFSETFROM:+1100
TZOFFSETTO:+1000
TZNAME:AEST
DTSTART:20160402T160000
END:STANDARD
BEGIN:DAYLIGHT
TZOFFSETFROM:+1000
TZOFFSETTO:+1100
TZNAME:AEDT
DTSTART:20161001T160000
END:DAYLIGHT
BEGIN:STANDARD
TZOFFSETFROM:+1100
TZOFFSETTO:+1000
TZNAME:AEST
DTSTART:20170401T160000
END:STANDARD
BEGIN:DAYLIGHT
TZOFFSETFROM:+1000
TZOFFSETTO:+1100
TZNAME:AEDT
DTSTART:20170930T160000
END:DAYLIGHT
BEGIN:STANDARD
TZOFFSETFROM:+1100
TZOFFSETTO:+1000
TZNAME:AEST
DTSTART:20180331T160000
END:STANDARD
BEGIN:DAYLIGHT
TZOFFSETFROM:+1000
TZOFFSETTO:+1100
TZNAME:AEDT
DTSTART:20181006T160000
END:DAYLIGHT
BEGIN:STANDARD
TZOFFSETFROM:+1100
TZOFFSETTO:+1000
TZNAME:AEST
DTSTART:20190406T160000
END:STANDARD
BEGIN:DAYLIGHT
TZOFFSETFROM:+1000
TZOFFSETTO:+1100
TZNAME:AEDT
DTSTART:20191005T160000
END:DAYLIGHT
END:VTIMEZONE
BEGIN:VEVENT
DTSTART;TZID=Australia/Melbourne:20180302T100000
DTEND;TZID=Australia/Melbourne:20180304T170000
DTSTAMP:20260424T000000
CREATED:20180211T103416Z
LAST-MODIFIED:20180211T112635Z
UID:12207-1519984800-1520182800@thelittlespanishgraterplate.com.au
SUMMARY:Ballarat Great Outdoor Expo
DESCRIPTION:Find us in the Hancock Pavilion\, Site H31 \nFriday 11am-5pm \nSaturday 10am-5pm \nSunday 10am-4pm \n \n 
URL:https://thelittlespanishgraterplate.com.au/event/ballarat-great-outdoor-expo/
LOCATION:Ballarat Showgrounds\, Cnr Creswick Road and Howitt Street\, Wendouree\, Vic\, 3355\, Australia
CATEGORIES:VIC
END:VEVENT
BEGIN:VEVENT
DTSTART;TZID=Australia/Melbourne:20180223T090000
DTEND;TZID=Australia/Melbourne:20180225T170000
DTSTAMP:20260424T000000
CREATED:20180211T101641Z
LAST-MODIFIED:20180211T101643Z
UID:12204-1519376400-1519578000@thelittlespanishgraterplate.com.au
SUMMARY:Brisbane Home Show
DESCRIPTION:Find us on Site A05
URL:https://thelittlespanishgraterplate.com.au/event/brisbane-home-show/
LOCATION:Brisbane Convention and Exhibition Centre\, Merivale Street\, South Bank\, QLD\, 4101\, Australia
CATEGORIES:QLD
END:VEVENT
BEGIN:VEVENT
DTSTART;TZID=Australia/Melbourne:20180216T083000
DTEND;TZID=Australia/Melbourne:20180218T160000
DTSTAMP:20260424T000000
CREATED:20180211T094052Z
LAST-MODIFIED:20180211T100309Z
UID:12200-1518769800-1518969600@thelittlespanishgraterplate.com.au
SUMMARY:Seymour Alternative Farming Expo
DESCRIPTION:Find us at the Expo on Site C12.
URL:https://thelittlespanishgraterplate.com.au/event/seymour-alternative-farming-expo/
LOCATION:Kings Park\, 55 Tallarook Street\, Seymour\, Vic\, 3660\, Australia
END:VEVENT
BEGIN:VEVENT
DTSTART;TZID=Australia/Melbourne:20171223T073000
DTEND;TZID=Australia/Melbourne:20171223T123000
DTSTAMP:20260424T000000
CREATED:20171222T023936Z
LAST-MODIFIED:20171222T024323Z
UID:12126-1514014200-1514032200@thelittlespanishgraterplate.com.au
SUMMARY:Tootgarook Market
DESCRIPTION:Is anyone in a Christmas frenzy? Come and visit us at Tootgarook Market this Sat for some unique last minute Christmas gifts. Come and see how it works\, you will be amazed. These little plates are beautiful yet functional and the perfect gift for the master chef in your kitchen! PS. We will have our amazing new Raspa Salad Bowls there for you to buy!
URL:https://thelittlespanishgraterplate.com.au/event/tootgarook-market/
LOCATION:Tootgarook Primary School\, 7 Carmichael Street\, Tootgarook\, Melbourne\, Victoria\, 3941\, Australia
ATTACH;FMTTYPE=image/jpeg:https://thelittlespanishgraterplate.com.au/wp-content/uploads/2017/12/Tootgarook-Market-Cover-image.jpg
ORGANIZER;CN="The Little Spanish Grater Plate":MAILTO:info@thelittlespanishgraterplate.com.au
END:VEVENT
END:VCALENDAR