BEGIN:VCALENDAR
VERSION:2.0
PRODID:-//Spanish Grater Plate - ECPv6.15.20//NONSGML v1.0//EN
CALSCALE:GREGORIAN
METHOD:PUBLISH
X-WR-CALNAME:Spanish Grater Plate
X-ORIGINAL-URL:https://thelittlespanishgraterplate.com.au
X-WR-CALDESC:Events for Spanish Grater Plate
REFRESH-INTERVAL;VALUE=DURATION:PT1H
X-Robots-Tag:noindex
X-PUBLISHED-TTL:PT1H
BEGIN:VTIMEZONE
TZID:Australia/Melbourne
BEGIN:STANDARD
TZOFFSETFROM:+1100
TZOFFSETTO:+1000
TZNAME:AEST
DTSTART:20180331T160000
END:STANDARD
BEGIN:DAYLIGHT
TZOFFSETFROM:+1000
TZOFFSETTO:+1100
TZNAME:AEDT
DTSTART:20181006T160000
END:DAYLIGHT
BEGIN:STANDARD
TZOFFSETFROM:+1100
TZOFFSETTO:+1000
TZNAME:AEST
DTSTART:20190406T160000
END:STANDARD
BEGIN:DAYLIGHT
TZOFFSETFROM:+1000
TZOFFSETTO:+1100
TZNAME:AEDT
DTSTART:20191005T160000
END:DAYLIGHT
BEGIN:STANDARD
TZOFFSETFROM:+1100
TZOFFSETTO:+1000
TZNAME:AEST
DTSTART:20200404T160000
END:STANDARD
BEGIN:DAYLIGHT
TZOFFSETFROM:+1000
TZOFFSETTO:+1100
TZNAME:AEDT
DTSTART:20201003T160000
END:DAYLIGHT
END:VTIMEZONE
BEGIN:VEVENT
DTSTART;TZID=Australia/Melbourne:20190809T100000
DTEND;TZID=Australia/Melbourne:20190811T170000
DTSTAMP:20260421T095911
CREATED:20190311T233250Z
LAST-MODIFIED:20190311T233250Z
UID:13101-1565344800-1565542800@thelittlespanishgraterplate.com.au
SUMMARY:Perth Home Show
DESCRIPTION:About to renovate or build?\nThen visit the Perth Home Show to see\, try and buy all the latest products for your kitchen\, bathroom or interiors upgrade. There’s hundreds of new ideas to renovate your house\, both inside and out.\nThe Little Spanish Grater Plate will be there for those who are kitchen proud and love to cook.  You can visit us for a free demonstration on site i31.
URL:https://thelittlespanishgraterplate.com.au/event/perth-home-show/
LOCATION:Perth Convention and Exhibition Centre\, 21 Mounts Bay Road\, Perth\, WA\, Australia
CATEGORIES:WA
ATTACH;FMTTYPE=image/jpeg:https://thelittlespanishgraterplate.com.au/wp-content/uploads/2018/02/1989-Flores-de-jardín.jpg
END:VEVENT
END:VCALENDAR