BEGIN:VCALENDAR
VERSION:2.0
PRODID:-//Spanish Grater Plate - ECPv6.15.20//NONSGML v1.0//EN
CALSCALE:GREGORIAN
METHOD:PUBLISH
X-ORIGINAL-URL:https://thelittlespanishgraterplate.com.au
X-WR-CALDESC:Events for Spanish Grater Plate
REFRESH-INTERVAL;VALUE=DURATION:PT1H
X-Robots-Tag:noindex
X-PUBLISHED-TTL:PT1H
BEGIN:VTIMEZONE
TZID:Australia/Melbourne
BEGIN:STANDARD
TZOFFSETFROM:+1100
TZOFFSETTO:+1000
TZNAME:AEST
DTSTART:20190406T160000
END:STANDARD
BEGIN:DAYLIGHT
TZOFFSETFROM:+1000
TZOFFSETTO:+1100
TZNAME:AEDT
DTSTART:20191005T160000
END:DAYLIGHT
BEGIN:STANDARD
TZOFFSETFROM:+1100
TZOFFSETTO:+1000
TZNAME:AEST
DTSTART:20200404T160000
END:STANDARD
BEGIN:DAYLIGHT
TZOFFSETFROM:+1000
TZOFFSETTO:+1100
TZNAME:AEDT
DTSTART:20201003T160000
END:DAYLIGHT
BEGIN:STANDARD
TZOFFSETFROM:+1100
TZOFFSETTO:+1000
TZNAME:AEST
DTSTART:20210403T160000
END:STANDARD
BEGIN:DAYLIGHT
TZOFFSETFROM:+1000
TZOFFSETTO:+1100
TZNAME:AEDT
DTSTART:20211002T160000
END:DAYLIGHT
END:VTIMEZONE
BEGIN:VEVENT
DTSTART;TZID=Australia/Melbourne:20200507T080000
DTEND;TZID=Australia/Melbourne:20200509T170000
DTSTAMP:20260421T044029
CREATED:20200210T130852Z
LAST-MODIFIED:20200210T130852Z
UID:14024-1588838400-1589043600@thelittlespanishgraterplate.com.au
SUMMARY:AgFest
DESCRIPTION:Agfest is an agricultural and machinery field day event that has been operating for 37 years. It is a Tasmanian success story that injects millions of dollars into our local economy annually. Agfest today is recognised throughout Australia and is recognised in the top 3 field day events. \n 
URL:https://thelittlespanishgraterplate.com.au/event/agfest/
LOCATION:Carrick\, TAS\, Carrick\, Australia
CATEGORIES:TAS
ATTACH;FMTTYPE=image/jpeg:https://thelittlespanishgraterplate.com.au/wp-content/uploads/2019/12/OliveBowl_Lime-1000x1000pix.jpg
END:VEVENT
END:VCALENDAR