BEGIN:VCALENDAR
VERSION:2.0
PRODID:-//Spanish Grater Plate - ECPv6.15.20//NONSGML v1.0//EN
CALSCALE:GREGORIAN
METHOD:PUBLISH
X-ORIGINAL-URL:https://thelittlespanishgraterplate.com.au
X-WR-CALDESC:Events for Spanish Grater Plate
REFRESH-INTERVAL;VALUE=DURATION:PT1H
X-Robots-Tag:noindex
X-PUBLISHED-TTL:PT1H
BEGIN:VTIMEZONE
TZID:Australia/Melbourne
BEGIN:STANDARD
TZOFFSETFROM:+1100
TZOFFSETTO:+1000
TZNAME:AEST
DTSTART:20170401T160000
END:STANDARD
BEGIN:DAYLIGHT
TZOFFSETFROM:+1000
TZOFFSETTO:+1100
TZNAME:AEDT
DTSTART:20170930T160000
END:DAYLIGHT
BEGIN:STANDARD
TZOFFSETFROM:+1100
TZOFFSETTO:+1000
TZNAME:AEST
DTSTART:20180331T160000
END:STANDARD
BEGIN:DAYLIGHT
TZOFFSETFROM:+1000
TZOFFSETTO:+1100
TZNAME:AEDT
DTSTART:20181006T160000
END:DAYLIGHT
BEGIN:STANDARD
TZOFFSETFROM:+1100
TZOFFSETTO:+1000
TZNAME:AEST
DTSTART:20190406T160000
END:STANDARD
BEGIN:DAYLIGHT
TZOFFSETFROM:+1000
TZOFFSETTO:+1100
TZNAME:AEDT
DTSTART:20191005T160000
END:DAYLIGHT
BEGIN:STANDARD
TZOFFSETFROM:+1100
TZOFFSETTO:+1000
TZNAME:AEST
DTSTART:20200404T160000
END:STANDARD
BEGIN:DAYLIGHT
TZOFFSETFROM:+1000
TZOFFSETTO:+1100
TZNAME:AEDT
DTSTART:20201003T160000
END:DAYLIGHT
END:VTIMEZONE
BEGIN:VEVENT
DTSTART;TZID=Australia/Melbourne:20190315T080000
DTEND;TZID=Australia/Melbourne:20190316T160000
DTSTAMP:20260421T151403
CREATED:20181216T114214Z
LAST-MODIFIED:20181216T114215Z
UID:12885-1552636800-1552752000@thelittlespanishgraterplate.com.au
SUMMARY:South East Field Days
DESCRIPTION:The Little Spanish Grater Plate is back for another awesome Field Days in Lucindale.  You will find us in our normal location in the Lifestyle Pavilion. 
URL:https://thelittlespanishgraterplate.com.au/event/south-east-field-days-2/
LOCATION:Yakka Park Lucindale\, 3293 Ave Range Road\, Lucindale\, SA\, 5272\, Australia
CATEGORIES:SA
ATTACH;FMTTYPE=image/png:https://thelittlespanishgraterplate.com.au/wp-content/uploads/2017/12/Plate-right-1.png
END:VEVENT
BEGIN:VEVENT
DTSTART;TZID=Australia/Melbourne:20180316T080000
DTEND;TZID=Australia/Melbourne:20180317T170000
DTSTAMP:20260421T151403
CREATED:20180211T114128Z
LAST-MODIFIED:20180211T114908Z
UID:12222-1521187200-1521306000@thelittlespanishgraterplate.com.au
SUMMARY:South East Field Days
DESCRIPTION:Find us in the Lifestyle Pavilion\, Site #7
URL:https://thelittlespanishgraterplate.com.au/event/south-east-field-days/
LOCATION:Yakka Park Lucindale\, 3293 Ave Range Road\, Lucindale\, SA\, 5272\, Australia
CATEGORIES:SA
END:VEVENT
END:VCALENDAR