BEGIN:VCALENDAR
VERSION:2.0
PRODID:-//Spanish Grater Plate - ECPv6.15.20//NONSGML v1.0//EN
CALSCALE:GREGORIAN
METHOD:PUBLISH
X-ORIGINAL-URL:https://thelittlespanishgraterplate.com.au
X-WR-CALDESC:Events for Spanish Grater Plate
REFRESH-INTERVAL;VALUE=DURATION:PT1H
X-Robots-Tag:noindex
X-PUBLISHED-TTL:PT1H
BEGIN:VTIMEZONE
TZID:Australia/Melbourne
BEGIN:STANDARD
TZOFFSETFROM:+1100
TZOFFSETTO:+1000
TZNAME:AEST
DTSTART:20170401T160000
END:STANDARD
BEGIN:DAYLIGHT
TZOFFSETFROM:+1000
TZOFFSETTO:+1100
TZNAME:AEDT
DTSTART:20170930T160000
END:DAYLIGHT
BEGIN:STANDARD
TZOFFSETFROM:+1100
TZOFFSETTO:+1000
TZNAME:AEST
DTSTART:20180331T160000
END:STANDARD
BEGIN:DAYLIGHT
TZOFFSETFROM:+1000
TZOFFSETTO:+1100
TZNAME:AEDT
DTSTART:20181006T160000
END:DAYLIGHT
BEGIN:STANDARD
TZOFFSETFROM:+1100
TZOFFSETTO:+1000
TZNAME:AEST
DTSTART:20190406T160000
END:STANDARD
BEGIN:DAYLIGHT
TZOFFSETFROM:+1000
TZOFFSETTO:+1100
TZNAME:AEDT
DTSTART:20191005T160000
END:DAYLIGHT
BEGIN:STANDARD
TZOFFSETFROM:+1100
TZOFFSETTO:+1000
TZNAME:AEST
DTSTART:20200404T160000
END:STANDARD
BEGIN:DAYLIGHT
TZOFFSETFROM:+1000
TZOFFSETTO:+1100
TZNAME:AEDT
DTSTART:20201003T160000
END:DAYLIGHT
BEGIN:STANDARD
TZOFFSETFROM:+1100
TZOFFSETTO:+1000
TZNAME:AEST
DTSTART:20210403T160000
END:STANDARD
BEGIN:DAYLIGHT
TZOFFSETFROM:+1000
TZOFFSETTO:+1100
TZNAME:AEDT
DTSTART:20211002T160000
END:DAYLIGHT
END:VTIMEZONE
BEGIN:VEVENT
DTSTART;TZID=Australia/Melbourne:20200228T090000
DTEND;TZID=Australia/Melbourne:20200301T170000
DTSTAMP:20260421T112602
CREATED:20191016T211621Z
LAST-MODIFIED:20191016T211915Z
UID:13477-1582880400-1583082000@thelittlespanishgraterplate.com.au
SUMMARY:Brisbane Home Show
DESCRIPTION:About to renovate or build? Then visit Brisbane’s HIA Home Show to see\, try and buy all the latest products for your kitchen\, bathroom or interiors upgrade. There are hundreds of new ideas to renovate your house\, both inside and out. Get FREE expert advice from more than 280 leading Queensland suppliers\, so bring your plans and photos. See everything under one roof – and kids under 14 are FREE!
URL:https://thelittlespanishgraterplate.com.au/event/brisbane-home-show-4/
LOCATION:Brisbane Convention and Exhibition Centre\, Merivale Street\, South Bank\, QLD\, 4101\, Australia
CATEGORIES:QLD
ATTACH;FMTTYPE=image/png:https://thelittlespanishgraterplate.com.au/wp-content/uploads/2017/12/Blue-Lavender-Grater-Bowl.png
END:VEVENT
BEGIN:VEVENT
DTSTART;VALUE=DATE:20200110
DTEND;VALUE=DATE:20200113
DTSTAMP:20260421T112602
CREATED:20191015T002950Z
LAST-MODIFIED:20191016T210927Z
UID:13466-1578614400-1578873599@thelittlespanishgraterplate.com.au
SUMMARY:Food and Wine Expo - Gold Coast
DESCRIPTION:This is our first event in the Gold Coast!! If you love good food and wine\, you won’t be disappointed by the Gold Coast Food & Wine Expo. \nGOLD COAST CONVENTION CENTRE\nFriday 10th January 2020\, Open 11am-8pm\nSaturday 11th January 2020\, Open 10am-6pm\nSunday 12th January 2020\, Open 10am-5pm
URL:https://thelittlespanishgraterplate.com.au/event/food-and-wine-expo-gold-coast/
LOCATION:Gold Coast Convention Centre\, 2684-2690 Gold Coast Highway\, Broadbeach\, QLD\, Australia
CATEGORIES:QLD
ATTACH;FMTTYPE=image/png:https://thelittlespanishgraterplate.com.au/wp-content/uploads/2017/12/Green-Olive-Grater-Bowl.png
END:VEVENT
BEGIN:VEVENT
DTSTART;TZID=Australia/Melbourne:20190913T090000
DTEND;TZID=Australia/Melbourne:20190915T170000
DTSTAMP:20260421T112602
CREATED:20190107T031452Z
LAST-MODIFIED:20190107T031454Z
UID:12960-1568365200-1568566800@thelittlespanishgraterplate.com.au
SUMMARY:Brisbane Home Show
DESCRIPTION:About to renovate or build? Then visit Brisbane’s Home Show to see\, try and buy all the latest products for your kitchen\, bathroom or interiors upgrade. There are hundreds of new ideas to renovate your house\, both inside and out. Get FREE expert advice from more than 280 leading Queensland suppliers\, so bring your plans and photos. See everything under one roof – and kids under 14 are FREE!
URL:https://thelittlespanishgraterplate.com.au/event/brisbane-home-show-3/
LOCATION:Brisbane Convention and Exhibition Centre\, Merivale Street\, South Bank\, QLD\, 4101\, Australia
CATEGORIES:QLD
ATTACH;FMTTYPE=image/png:https://thelittlespanishgraterplate.com.au/wp-content/uploads/2017/12/Summer-Lime-Grater-Bowl.png
END:VEVENT
BEGIN:VEVENT
DTSTART;TZID=Australia/Melbourne:20180908T090000
DTEND;TZID=Australia/Melbourne:20180909T170000
DTSTAMP:20260421T112602
CREATED:20180908T110636Z
LAST-MODIFIED:20180815T111406Z
UID:12471-1536397200-1536512400@thelittlespanishgraterplate.com.au
SUMMARY:Big Boys Toys\, Mackay
DESCRIPTION:
URL:https://thelittlespanishgraterplate.com.au/event/big-boys-toys-mackay/
LOCATION:Mackay Showgrounds
CATEGORIES:QLD
END:VEVENT
BEGIN:VEVENT
DTSTART;TZID=Australia/Melbourne:20180223T090000
DTEND;TZID=Australia/Melbourne:20180225T170000
DTSTAMP:20260421T112602
CREATED:20180211T101641Z
LAST-MODIFIED:20180211T101643Z
UID:12204-1519376400-1519578000@thelittlespanishgraterplate.com.au
SUMMARY:Brisbane Home Show
DESCRIPTION:Find us on Site A05
URL:https://thelittlespanishgraterplate.com.au/event/brisbane-home-show/
LOCATION:Brisbane Convention and Exhibition Centre\, Merivale Street\, South Bank\, QLD\, 4101\, Australia
CATEGORIES:QLD
END:VEVENT
END:VCALENDAR