BEGIN:VCALENDAR
VERSION:2.0
PRODID:-//Spanish Grater Plate - ECPv6.15.20//NONSGML v1.0//EN
CALSCALE:GREGORIAN
METHOD:PUBLISH
X-ORIGINAL-URL:https://thelittlespanishgraterplate.com.au
X-WR-CALDESC:Events for Spanish Grater Plate
REFRESH-INTERVAL;VALUE=DURATION:PT1H
X-Robots-Tag:noindex
X-PUBLISHED-TTL:PT1H
BEGIN:VTIMEZONE
TZID:Australia/Melbourne
BEGIN:STANDARD
TZOFFSETFROM:+1100
TZOFFSETTO:+1000
TZNAME:AEST
DTSTART:20170401T160000
END:STANDARD
BEGIN:DAYLIGHT
TZOFFSETFROM:+1000
TZOFFSETTO:+1100
TZNAME:AEDT
DTSTART:20170930T160000
END:DAYLIGHT
BEGIN:STANDARD
TZOFFSETFROM:+1100
TZOFFSETTO:+1000
TZNAME:AEST
DTSTART:20180331T160000
END:STANDARD
BEGIN:DAYLIGHT
TZOFFSETFROM:+1000
TZOFFSETTO:+1100
TZNAME:AEDT
DTSTART:20181006T160000
END:DAYLIGHT
BEGIN:STANDARD
TZOFFSETFROM:+1100
TZOFFSETTO:+1000
TZNAME:AEST
DTSTART:20190406T160000
END:STANDARD
BEGIN:DAYLIGHT
TZOFFSETFROM:+1000
TZOFFSETTO:+1100
TZNAME:AEDT
DTSTART:20191005T160000
END:DAYLIGHT
BEGIN:STANDARD
TZOFFSETFROM:+1100
TZOFFSETTO:+1000
TZNAME:AEST
DTSTART:20200404T160000
END:STANDARD
BEGIN:DAYLIGHT
TZOFFSETFROM:+1000
TZOFFSETTO:+1100
TZNAME:AEDT
DTSTART:20201003T160000
END:DAYLIGHT
END:VTIMEZONE
BEGIN:VEVENT
DTSTART;TZID=Australia/Melbourne:20190712T083000
DTEND;TZID=Australia/Melbourne:20190713T170000
DTSTAMP:20260421T100222
CREATED:20190318T021618Z
LAST-MODIFIED:20190318T021618Z
UID:13117-1562920200-1563037200@thelittlespanishgraterplate.com.au
SUMMARY:Mudgee Field Days
DESCRIPTION:You can find The Little Spanish Grater Plate in the Founders Pavilion. Same site as 2018. \nEvent Details:\nWhen: Friday 12th & Saturday 13th July\, 2019.\nGates open from 8.30 am till 5pm each day. Eftpos available at gates from 8:30-2pm. \nWhere: The field days site is 2.5 kms north of Mudgee township\, adjacent the Mudgee airport.\nParking:  FREE. There are two public car parks\, follow signs as you arrive in Mudgee. One entry is from the Ulan Road and the other is via Henry Lawson Drive. \nEntry Fees:\nOne Day Adult Pass –   $ 20\nTwo Day Adult Pass –   $ 30\nUnder 5 years –  FREE\nOne Day Child Pass –     $ 5    (5 – 16 years)\nTwo Day Child Pass –     $ 10   (5 – 16 years)\nOne Day Family Pass –  $ 40   (2 Adults and up to 2 children)\nTwo Day Family Pass –  $ 60   (2 Adults and up to 2 children) *NEW*\nOne Day Pensioner Pass – $ 10  (Pensioner Cardholders ONLY)\nTwo Day Pensioner Pass – $ 15  (Pensioner Cardholders ONLY)
URL:https://thelittlespanishgraterplate.com.au/event/mudgee-field-days/
LOCATION:Mudgee\, Ulan Road\, Mudgee\, NSW
CATEGORIES:NSW
ATTACH;FMTTYPE=image/png:https://thelittlespanishgraterplate.com.au/wp-content/uploads/2017/12/Plate-right-1.png
END:VEVENT
BEGIN:VEVENT
DTSTART;TZID=Australia/Melbourne:20190516T090000
DTEND;TZID=Australia/Melbourne:20190518T160000
DTSTAMP:20260421T100222
CREATED:20190107T025246Z
LAST-MODIFIED:20190107T025246Z
UID:12948-1557997200-1558195200@thelittlespanishgraterplate.com.au
SUMMARY:Primex Field Days
DESCRIPTION:Primex is held annually at Casino\, in the Northern Rivers of New South Wales and is considered as one of Australia’s leading country centres. The town straddles the Richmond River which encompasses a range of attractions that make the wider Northern Rivers and North Coast Region such a unique part of Australia.
URL:https://thelittlespanishgraterplate.com.au/event/primex-field-days/
LOCATION:Casino\, Cassino Drive\, Casino\, NSW\, Australia
CATEGORIES:NSW
ATTACH;FMTTYPE=image/png:https://thelittlespanishgraterplate.com.au/wp-content/uploads/2017/12/Blue-Lavender-Grater-Bowl.png
END:VEVENT
BEGIN:VEVENT
DTSTART;TZID=Australia/Melbourne:20190405T100000
DTEND;TZID=Australia/Melbourne:20190407T180000
DTSTAMP:20260421T100222
CREATED:20190107T022100Z
LAST-MODIFIED:20190107T022101Z
UID:12935-1554458400-1554660000@thelittlespanishgraterplate.com.au
SUMMARY:Sydney Home Show
DESCRIPTION:You’ll love the iconic Sydney HIA Home Show – Sydney’s favourite building & renovation expo! It’s gigantic\, packed with the best products and new releases from around the world…and now with FREE ENTRY! You’ll meet more than 300 of Australia’s premier suppliers all under one roof. You can see\, try and buy all the latest products at this one-stop shop. Get lots of ideas and free expert advice for your home project.
URL:https://thelittlespanishgraterplate.com.au/event/sydney-home-show-2/
LOCATION:ICC Sydney\, 14 Darling Drive\, Sydney\, NSW\, Australia
CATEGORIES:NSW
ATTACH;FMTTYPE=image/jpeg:https://thelittlespanishgraterplate.com.au/wp-content/uploads/2018/02/1986-Fiesta.jpg
END:VEVENT
BEGIN:VEVENT
DTSTART;TZID=Australia/Melbourne:20190207T090000
DTEND;TZID=Australia/Melbourne:20190210T170000
DTSTAMP:20260421T100222
CREATED:20190205T225334Z
LAST-MODIFIED:20190205T225334Z
UID:13038-1549530000-1549818000@thelittlespanishgraterplate.com.au
SUMMARY:Newcastle Caravan & Camping Holiday Expo
DESCRIPTION:The Newcastle Caravan Camping Holiday Expo is on for 4 big days\, with over 160 Exhibitors. This is the ultimate way to check out what caravan and camping is all about. It’s the perfect place to plan your next getaway.
URL:https://thelittlespanishgraterplate.com.au/event/newcastle-caravan-camping-holiday-expo/
LOCATION:Newcastle Entertainment Centre & Showground
CATEGORIES:NSW
ATTACH;FMTTYPE=image/jpeg:https://thelittlespanishgraterplate.com.au/wp-content/uploads/2018/02/1989-Flores-de-jardín.jpg
END:VEVENT
BEGIN:VEVENT
DTSTART;TZID=Australia/Melbourne:20190113T080000
DTEND;TZID=Australia/Melbourne:20190113T130000
DTSTAMP:20260421T100222
CREATED:20190107T060135Z
LAST-MODIFIED:20190107T060521Z
UID:12962-1547366400-1547384400@thelittlespanishgraterplate.com.au
SUMMARY:Moama Market
DESCRIPTION:The region’s largest general market situated on lush green lawns and just a stones throw from the Murray River!
URL:https://thelittlespanishgraterplate.com.au/event/moama-market/
LOCATION:Moama\, NSW\, Blair Street\, Moama\, NSW\, 2731\, Australia
CATEGORIES:NSW
ATTACH;FMTTYPE=image/png:https://thelittlespanishgraterplate.com.au/wp-content/uploads/2017/12/Fiesta-Grater-Plate.png
END:VEVENT
BEGIN:VEVENT
DTSTART;TZID=Australia/Melbourne:20181230T080000
DTEND;TZID=Australia/Melbourne:20181230T130000
DTSTAMP:20260421T100222
CREATED:20181216T093812Z
LAST-MODIFIED:20181216T094547Z
UID:12869-1546156800-1546174800@thelittlespanishgraterplate.com.au
SUMMARY:Echuca Moama Market
DESCRIPTION:The Little Spanish Grater Plate is always in a different spot when we attend this market.  So you’ll have to wonder thru and enjoy this lovely market whilst looking for us! \nSituated on lush green lawns and just a stones throw from the Murray River the Echuca Moama Market operates throughout the entire year and coincides with most long weekends (public holidays)\, local events and festivals.
URL:https://thelittlespanishgraterplate.com.au/event/echuca-moama-market/
LOCATION:Moama\, NSW\, Blair Street\, Moama\, NSW\, 2731\, Australia
CATEGORIES:NSW
END:VEVENT
BEGIN:VEVENT
DTSTART;TZID=Australia/Melbourne:20181020T080000
DTEND;TZID=Australia/Melbourne:20181021T170000
DTSTAMP:20260421T100222
CREATED:20180212T023726Z
LAST-MODIFIED:20180212T025346Z
UID:12261-1540022400-1540141200@thelittlespanishgraterplate.com.au
SUMMARY:Murrumbateman Field Days
DESCRIPTION:Find us on Site B58\, on the Oval.
URL:https://thelittlespanishgraterplate.com.au/event/murrumbateman-field-days/
LOCATION:Murrumbateman Recreation Grounds\, 19 East Street\, Murrumbateman\, NSW\, 2582
CATEGORIES:NSW
END:VEVENT
BEGIN:VEVENT
DTSTART;TZID=Australia/Melbourne:20180525T100000
DTEND;TZID=Australia/Melbourne:20180527T180000
DTSTAMP:20260421T100222
CREATED:20180211T132355Z
LAST-MODIFIED:20180212T003821Z
UID:12252-1527242400-1527444000@thelittlespanishgraterplate.com.au
SUMMARY:Sydney Home Show
DESCRIPTION:Site P08
URL:https://thelittlespanishgraterplate.com.au/event/sydney-home-show/
LOCATION:International Convention Centre\, 14 Darling Drive\, Darling Harbour\, Sydney\, NSW\, 2000\, Australia
CATEGORIES:NSW
END:VEVENT
BEGIN:VEVENT
DTSTART;TZID=Australia/Melbourne:20180504T080000
DTEND;TZID=Australia/Melbourne:20180506T170000
DTSTAMP:20260421T100222
CREATED:20180511T141804Z
LAST-MODIFIED:20180212T023131Z
UID:12249-1525420800-1525626000@thelittlespanishgraterplate.com.au
SUMMARY:Tocal Field Days
DESCRIPTION:Find us on site #137 \n \n 
URL:https://thelittlespanishgraterplate.com.au/event/tocal-field-days/
LOCATION:Tocal\, 815 Tocal Road\, Patterson\, NSW\, 2421
CATEGORIES:NSW
END:VEVENT
END:VCALENDAR