BEGIN:VCALENDAR
VERSION:2.0
PRODID:-//Spanish Grater Plate - ECPv6.15.20//NONSGML v1.0//EN
CALSCALE:GREGORIAN
METHOD:PUBLISH
X-ORIGINAL-URL:https://thelittlespanishgraterplate.com.au
X-WR-CALDESC:Events for Spanish Grater Plate
REFRESH-INTERVAL;VALUE=DURATION:PT1H
X-Robots-Tag:noindex
X-PUBLISHED-TTL:PT1H
BEGIN:VTIMEZONE
TZID:Australia/Melbourne
BEGIN:STANDARD
TZOFFSETFROM:+1100
TZOFFSETTO:+1000
TZNAME:AEST
DTSTART:20180331T160000
END:STANDARD
BEGIN:DAYLIGHT
TZOFFSETFROM:+1000
TZOFFSETTO:+1100
TZNAME:AEDT
DTSTART:20181006T160000
END:DAYLIGHT
BEGIN:STANDARD
TZOFFSETFROM:+1100
TZOFFSETTO:+1000
TZNAME:AEST
DTSTART:20190406T160000
END:STANDARD
BEGIN:DAYLIGHT
TZOFFSETFROM:+1000
TZOFFSETTO:+1100
TZNAME:AEDT
DTSTART:20191005T160000
END:DAYLIGHT
BEGIN:STANDARD
TZOFFSETFROM:+1100
TZOFFSETTO:+1000
TZNAME:AEST
DTSTART:20200404T160000
END:STANDARD
BEGIN:DAYLIGHT
TZOFFSETFROM:+1000
TZOFFSETTO:+1100
TZNAME:AEDT
DTSTART:20201003T160000
END:DAYLIGHT
BEGIN:STANDARD
TZOFFSETFROM:+1100
TZOFFSETTO:+1000
TZNAME:AEST
DTSTART:20210403T160000
END:STANDARD
BEGIN:DAYLIGHT
TZOFFSETFROM:+1000
TZOFFSETTO:+1100
TZNAME:AEDT
DTSTART:20211002T160000
END:DAYLIGHT
END:VTIMEZONE
BEGIN:VEVENT
DTSTART;TZID=Australia/Melbourne:20200610T080000
DTEND;TZID=Australia/Melbourne:20200613T170000
DTSTAMP:20260421T044153
CREATED:20190107T025953Z
LAST-MODIFIED:20200210T131125Z
UID:12957-1591776000-1592067600@thelittlespanishgraterplate.com.au
SUMMARY:Mystery Creek Field Days (NZ)
DESCRIPTION:Fieldays is the Southern Hemisphere’s largest agricultural event and the ultimate launch platform for cutting edge technology and innovation. Whether you are from in town or out in the country\, a Fieldays veteran or visiting for the first time\, Fieldays has something for everyone.
URL:https://thelittlespanishgraterplate.com.au/event/mystery-creek-field-days-nz/
LOCATION:Mystery Creek\, 125 Mystery Creek Road\, Hamilton\, New Zealand
CATEGORIES:New Zealand
ATTACH;FMTTYPE=image/png:https://thelittlespanishgraterplate.com.au/wp-content/uploads/2017/12/Green-Olive-Grater-Bowl.png
END:VEVENT
BEGIN:VEVENT
DTSTART;VALUE=DATE:20191113
DTEND;VALUE=DATE:20191116
DTSTAMP:20260421T044153
CREATED:20191113T002157Z
LAST-MODIFIED:20191022T074230Z
UID:13461-1573603200-1573862399@thelittlespanishgraterplate.com.au
SUMMARY:The New Zealand Agricultral Show
DESCRIPTION:The Little Spanish Grater Plate is please to be attending for the first time The New Zealand Agricultural Show! Welcoming over 100\,000 visitors through the gates\, the New Zealand Agricultural Show brings a touch of tradition to the city and celebrates all that is great about rural life. With a packed schedule of top livestock and equestrian events\, live music\, Endurocross\, fun-filled family entertainment\, an indulgent Food & Wine Vill
URL:https://thelittlespanishgraterplate.com.au/event/the-new-zealand-agricultral-show/
LOCATION:Canterbury\, Christchurch\, Canterbury Agricultural Park\, Canterbury\, New Zealand
CATEGORIES:New Zealand
ATTACH;FMTTYPE=image/png:https://thelittlespanishgraterplate.com.au/wp-content/uploads/2017/12/Fiesta-Grater-Plate.png
END:VEVENT
END:VCALENDAR